BEGIN:VCALENDAR
VERSION:2.0
PRODID:-//Hui Waʻa Kaukahi - ECPv6.15.20//NONSGML v1.0//EN
CALSCALE:GREGORIAN
METHOD:PUBLISH
X-ORIGINAL-URL:https://huiwaa.org
X-WR-CALDESC:Events for Hui Waʻa Kaukahi
REFRESH-INTERVAL;VALUE=DURATION:PT1H
X-Robots-Tag:noindex
X-PUBLISHED-TTL:PT1H
BEGIN:VTIMEZONE
TZID:Pacific/Honolulu
BEGIN:STANDARD
TZOFFSETFROM:-1000
TZOFFSETTO:-1000
TZNAME:HST
DTSTART:20250101T000000
END:STANDARD
END:VTIMEZONE
BEGIN:VEVENT
DTSTART;TZID=Pacific/Honolulu:20260408T190000
DTEND;TZID=Pacific/Honolulu:20260408T210000
DTSTAMP:20260422T091218
CREATED:20251118T015400Z
LAST-MODIFIED:20260403T044157Z
UID:3203-1775674800-1775682000@huiwaa.org
SUMMARY:April Club Meeting
DESCRIPTION:Join our discussion of past and future club events. We will also honor Gary Budlong\, the visionary who started Go Bananas\, selling the essentials and encouraging kayakers to paddle together in Hui Waʻa Kaukahi. Come and celebrate one of our founding members to whom we owe so much. \n\n\n\nPresentation by Kevin Ching:\n\n\n\n“You Guy’s from Hana?”\, the Maui councilman asked us. The Hui Waʻa Kaukahi’s epic North Shore of Maui Paddle the Summer of 1999. A slide show of a paddle into an adventure of a lifetime and beyond. \n\n\n\nMeeting Leader:\n\n\n\n\n\nMeeting Location:\n\n\n\nPaki Hale at Kapiolani Park. 3840 Paki Ave\, Honolulu\, HI 96815. \n\n\n\n\n\n\n\n\n\n	\n	\n	Attendance: 0 / 20\n	\n    \n\n	    \n            RSVP\n        RSVP\n    \n        		There were errors with your submission. Please try again.\n		\n        \n\n\n	Be the first!	\n\n	\n\n				\n				\n\n		\n		\n			\n			\n	\n		\n\n	First*\n	\n						\n									\n\n\n\n	Last*\n	\n						\n									\n\n\n\n	Email*\n	\n						\n									\n\n\n\n	Phone*\n	\n						\n									\n\n\n\n	What is 2 + 3*\n	\n						\n									\n\n	\n		\n\n				\n			Address\n			\n				\n				If you are a human\, do not fill in this field \n			\n		\n\n		\n						\n				+ Add Guest\n			\n						\n			\n					\n\n	\n\n	\n		\n	\n\n\n\n        		\n			Need to cancel?\n			Need to cancel? \n\n			\n				Get an email with an RSVP cancellation link. \n				\n\n					\n						\n							Enter the email address you registered with*
URL:https://huiwaa.org/event/april-club-meeting/
LOCATION:Paki Hale\, 758M+C9\, Honolulu\, HI\, 96815\, United States
CATEGORIES:Meeting
ATTACH;FMTTYPE=image/jpeg:https://huiwaa.org/wp-content/uploads/2024/11/Club-Meeting.jpg
END:VEVENT
BEGIN:VEVENT
DTSTART;TZID=Pacific/Honolulu:20260214T160000
DTEND;TZID=Pacific/Honolulu:20260214T190000
DTSTAMP:20260422T091218
CREATED:20251118T000031Z
LAST-MODIFIED:20260120T233725Z
UID:3198-1771084800-1771095600@huiwaa.org
SUMMARY:February Board Meeting
DESCRIPTION:Quarterly HWK board meeting for the officers and board to discuss club business. All members are welcome to attend. Pizza and salad provided. BYOB. RSVP so we know how much food to order. \n\n\n\nMeeting Chair:\n\n\n\n\n\nMeeting Location:\n\n\n\nThe Conrad’s home in Aiea. RSVP to get the address. \n\n\n\n\n\n\n\n	\n	\n	Attendance: 0 / 20\n	\n    \n\n	    \n            RSVP\n        RSVP\n    \n        		There were errors with your submission. Please try again.\n		\n        \n\n\n	Be the first!	\n\n	\n\n				\n				\n\n		\n		\n			\n			\n	\n		\n\n	First*\n	\n						\n									\n\n\n\n	Last*\n	\n						\n									\n\n\n\n	Email*\n	\n						\n									\n\n\n\n	Phone*\n	\n						\n									\n\n\n\n	What is 2 + 5*\n	\n						\n									\n\n	\n		\n\n				\n			Address\n			\n				\n				If you are a human\, do not fill in this field \n			\n		\n\n		\n						\n				+ Add Guest\n			\n						\n			\n					\n\n	\n\n	\n		\n	\n\n\n\n        		\n			Need to cancel?\n			Need to cancel? \n\n			\n				Get an email with an RSVP cancellation link. \n				\n\n					\n						\n							Enter the email address you registered with*
URL:https://huiwaa.org/event/february-board-meeting/
CATEGORIES:Meeting
ATTACH;FMTTYPE=image/jpeg:https://huiwaa.org/wp-content/uploads/2025/11/Board-Meeting.jpg
ORGANIZER;CN="Joe Hu":MAILTO:jhadvisor@gmail.com
END:VEVENT
BEGIN:VEVENT
DTSTART;TZID=Pacific/Honolulu:20260114T190000
DTEND;TZID=Pacific/Honolulu:20260114T210000
DTSTAMP:20260422T091218
CREATED:20251117T230751Z
LAST-MODIFIED:20251231T021353Z
UID:3192-1768417200-1768424400@huiwaa.org
SUMMARY:January Club Meeting
DESCRIPTION:Our club meetings will now be quarterly on the second Wednesday every third month.  \n\n\n\nPresentation: Sucia Island Adventure 2025\n\n\n\nNikko & Denny Conrad and Hilda Halm share their August 2025 kayak camping adventure to Sucia Island\, the jewel of the San Juan Islands. \n\n\n\nMeeting Leader:\n\n\n\n\n\nMeeting Location:\n\n\n\nPaki Hale in Kapiolani Park. 3840 Paki Ave\, Honolulu\, HI 96815. \n\n\n\n\n\n\n\n\n\n	\n	\n	Attendance: 0 / 20\n	\n    \n\n	    \n            RSVP\n        RSVP\n    \n        		There were errors with your submission. Please try again.\n		\n        \n\n\n	Be the first!	\n\n	\n\n				\n				\n\n		\n		\n			\n			\n	\n		\n\n	First*\n	\n						\n									\n\n\n\n	Last*\n	\n						\n									\n\n\n\n	Email*\n	\n						\n									\n\n\n\n	Phone*\n	\n						\n									\n\n\n\n	What is 3 + 3*\n	\n						\n									\n\n	\n		\n\n				\n			Address\n			\n				\n				If you are a human\, do not fill in this field \n			\n		\n\n		\n						\n				+ Add Guest\n			\n						\n			\n					\n\n	\n\n	\n		\n	\n\n\n\n        		\n			Need to cancel?\n			Need to cancel? \n\n			\n				Get an email with an RSVP cancellation link. \n				\n\n					\n						\n							Enter the email address you registered with*
URL:https://huiwaa.org/event/january-club-meeting/
LOCATION:Paki Hale\, 758M+C9\, Honolulu\, HI\, 96815\, United States
CATEGORIES:Meeting
ATTACH;FMTTYPE=image/jpeg:https://huiwaa.org/wp-content/uploads/2025/08/Hilda-Mt-Baker.jpg
ORGANIZER;CN="Bill Murphy":MAILTO:bilym@hotmail.com
END:VEVENT
END:VCALENDAR