BEGIN:VCALENDAR
VERSION:2.0
PRODID:-//Hui Waʻa Kaukahi - ECPv6.15.20//NONSGML v1.0//EN
CALSCALE:GREGORIAN
METHOD:PUBLISH
X-WR-CALNAME:Hui Waʻa Kaukahi
X-ORIGINAL-URL:https://huiwaa.org
X-WR-CALDESC:Events for Hui Waʻa Kaukahi
REFRESH-INTERVAL;VALUE=DURATION:PT1H
X-Robots-Tag:noindex
X-PUBLISHED-TTL:PT1H
BEGIN:VTIMEZONE
TZID:Pacific/Honolulu
BEGIN:STANDARD
TZOFFSETFROM:-1000
TZOFFSETTO:-1000
TZNAME:HST
DTSTART:20240101T000000
END:STANDARD
END:VTIMEZONE
BEGIN:VEVENT
DTSTART;TZID=Pacific/Honolulu:20260412T083000
DTEND;TZID=Pacific/Honolulu:20260412T130000
DTSTAMP:20260422T123828
CREATED:20251101T235403Z
LAST-MODIFIED:20260410T225208Z
UID:3091-1775982600-1775998800@huiwaa.org
SUMMARY:Kaimalino to Popoiʻa (Flat) Island and Back
DESCRIPTION:This round trip EZ Glider paddle is great for beginners to improve their skills in water exposed to small swells. You may also have to dodge wind surfers! Weʻll paddle across Kailua Bay and may stop at Popoiʻa (Flat) Island\, a seabird sanctuary\, before heading back to Kaimalino. \n\n\n\nMeet at the Kaimalino St. beach access at 8:30 am. – 5 mi. \n\n\n\nPaddle Leader:\n\n\n\n\n\nLaunch Location:\n\n\n\n\n\n\n\n\n\n	\n	Look Who's Coming!Sandy JohnsonWilliam MurphyTerry ShimabukuroThad SpregKimberly HowsleySusan WilcoxNikko Tiahrt-ConradDebi Lylestan dalbecMonte EliasStephen HarrisKathrin DelanoTomoe ContorelliRoger RudoffDenny ConradKelvin TomMark Ling\n	Attendance: 17 / 20\n	\n    \n\n	    \n    \n        Registrations are closed for this event
URL:https://huiwaa.org/event/kaimalino-to-popoia-flat-island-and-back/
LOCATION:Kaimalino St. Beach Access\, C7G6+836\, Kailua\, HI
CATEGORIES:#1 Easy Glider
ATTACH;FMTTYPE=image/png:https://huiwaa.org/wp-content/uploads/2024/11/Kailua-Bay.png
ORGANIZER;CN="Norm Chun":MAILTO:bluec239@msn.com
END:VEVENT
BEGIN:VEVENT
DTSTART;TZID=Pacific/Honolulu:20260329T080000
DTEND;TZID=Pacific/Honolulu:20260329T170000
DTSTAMP:20260422T123828
CREATED:20240329T035349Z
LAST-MODIFIED:20260326T011946Z
UID:566-1774771200-1774803600@huiwaa.org
SUMMARY:Easter Meet & Greet
DESCRIPTION:We have a full day of kayaking activities for prospective members and their families. The activities begin at 8:00 am with an “Introduction to Kayaking” clinic that will teach paddling strokes\, proper PFD fitting\, basic safety and on-the-water capsize recovery. Bring your camp chair if you want to sit comfortably for the lecture portion of the clinic. \n\n\n\nAt 11:30 we’ll have our traditional kayak Easter egg hunt on the bay. Bring your kids (or borrow some) and create a memory they’ll never forget! If you bring kids make sure that each one has a properly sized PFD. (Walmart carries affordable children’s PFDs.)  \n\n\n\nAfter the eggs are gathered we’ll enjoy a sumptuous potluck lunch. Bring a dish to share and your camp chair. The club is providing a sheet cake for the potluck so we don’t need many other desserts. We’ll have a jug of ice water\, but if you want anything else to drink bring it yourself. As we digest our feast we’ll give out egg hunt prizes. \n\n\n\nPlease leave the family pets at home as animals are not allowed in the park (registered service animals excepted). \n\n\n\nA limited number of loaner kayaks are available for this event. Please read and agree to our loaner kayak etiquette before asking to borrow a kayak. Contact the event organizer by Thursday\, 3/26\, if you want to borrow one. \n\n\n\nEvent Organizer:\n\n\n\n\n\nLaunch Location:\n\n\n\nDrive down the park road and take the right fork at the roundabout before the last parking lot. Drive around the partially closed gate to Campground “A”. Go to the end of the gravel road. We’ll be in the small group campsite past the outrigger canoes in the southwest corner of the park. The gate to the park opens at 7 am. \n\n\n\n\n\n			\n				\n			\n		Gravel road to Campground A\n\n\n\n\n			\n				\n			\n		Campground A\n\n\n\n\n\n\n\n\n\n\n	\n	Look Who's Coming!Sandy JohnsonWilliam MurphyTerry ShimabukuroThad SpregKimberly HowsleySusan WilcoxNikko Tiahrt-ConradDebi Lylestan dalbecMonte EliasStephen HarrisKathrin DelanoTomoe ContorelliRoger RudoffDenny ConradKelvin TomMark Ling\n	Attendance: 17 / 20\n	\n    \n\n	    \n    \n        Registrations are closed for this event
URL:https://huiwaa.org/event/easter-meet-greet/
LOCATION:Kualoa Regional Park Campsite A\, G555+HR\, Waikane\, HI
CATEGORIES:#1 Easy Glider
ATTACH;FMTTYPE=image/jpeg:https://huiwaa.org/wp-content/uploads/2026/03/Hui-Egg.jpg
ORGANIZER;CN="Terry Shimabukuro":MAILTO:terry@huiwaa.org
END:VEVENT
BEGIN:VEVENT
DTSTART;TZID=Pacific/Honolulu:20260322T090000
DTEND;TZID=Pacific/Honolulu:20260322T130000
DTSTAMP:20260422T123828
CREATED:20240728T042558Z
LAST-MODIFIED:20260321T180530Z
UID:420-1774170000-1774184400@huiwaa.org
SUMMARY:Heʻeia to Coconut Island
DESCRIPTION:An EZ Glider round-trip paddle around Coconut Island. Actual course will be set at the time of launch. Snorkeling allowed\, but no fishing. \n\n\n\nMeet at the Heʻeia Canoe Hale at 9:00 AM. – 5 mi. \n\n\n\nPaddle Leaders:\n\n\n\n\n\n\n\n\n\nLaunch Location:\n\n\n\nMeet at the canoe hale just to the left at the boat harbor entrance. \n\n\n\n\n\n\n\n\n\n	\n	Look Who's Coming!Sandy JohnsonWilliam MurphyTerry ShimabukuroThad SpregKimberly HowsleySusan WilcoxNikko Tiahrt-ConradDebi Lylestan dalbecMonte EliasStephen HarrisKathrin DelanoTomoe ContorelliRoger RudoffDenny ConradKelvin TomMark Ling\n	Attendance: 17 / 20\n	\n    \n\n	    \n    \n        Registrations are closed for this event
URL:https://huiwaa.org/event/heeia-to-coconut-island/
LOCATION:He’eia Kea Canoe Hale\, C5VQ+692\, Kahaluu\, HI
CATEGORIES:#1 Easy Glider
ATTACH;FMTTYPE=image/jpeg:https://huiwaa.org/wp-content/uploads/2024/08/02-Group-scaled.jpeg
ORGANIZER;CN="Randy Kennedy":MAILTO:rkennedy52@hawaii.rr.com
END:VEVENT
BEGIN:VEVENT
DTSTART;TZID=Pacific/Honolulu:20260315T083000
DTEND;TZID=Pacific/Honolulu:20260315T130000
DTSTAMP:20260422T123828
CREATED:20251031T080547Z
LAST-MODIFIED:20260314T071432Z
UID:3072-1773563400-1773579600@huiwaa.org
SUMMARY:Magic Island to Keʻehi Lagoon
DESCRIPTION:A south shore cruise along Kaka’ako and Sand Island. Landing at the beach near the Marine Education Training Center in Ke’ehi Lagoon. This is a great paddle for novices to test out paddling on the open ocean. No surf launch and landing. \n\n\n\nMeet at the ramp in front of the Magic Island canoe hale at 8:30 for a 9:00 carpool. – 4.5 mi. \n\n\n\nPaddle Leader:\n\n\n\n\n\nLaunch Location:\n\n\n\nPark in the Magic Island parking lot or along Ala Moana Park Dr. Launch from the ramp across the road from the canoe hale. \n\n\n\n\n\nLanding Location:\n\n\n\nKe’ehi Lagoon. Also called the Sand Island Boat Launch Facility near the Marine Education Training Center. Don’t park in the spaces for boat trailers. Launch or land on the beach not the boat ramp. \n\n\n\n\n\n\n\n	\n	Look Who's Coming!Sandy JohnsonWilliam MurphyTerry ShimabukuroThad SpregKimberly HowsleySusan WilcoxNikko Tiahrt-ConradDebi Lylestan dalbecMonte EliasStephen HarrisKathrin DelanoTomoe ContorelliRoger RudoffDenny ConradKelvin TomMark Ling\n	Attendance: 17 / 20\n	\n    \n\n	    \n    \n        Registrations are closed for this event
URL:https://huiwaa.org/event/magic-island-to-keehi-lagoon/
LOCATION:Magic Island Canoe Ramp\, 75Q4+49\, Honolulu\, HI
CATEGORIES:#1 Easy Glider
ATTACH;FMTTYPE=image/jpeg:https://huiwaa.org/wp-content/uploads/2024/03/Group-Harbor-scaled.jpg
ORGANIZER;CN="Steve Harris":MAILTO:808stevee@gmail.com
END:VEVENT
BEGIN:VEVENT
DTSTART;TZID=Pacific/Honolulu:20260308T093000
DTEND;TZID=Pacific/Honolulu:20260308T130000
DTSTAMP:20260422T123828
CREATED:20251031T075246Z
LAST-MODIFIED:20260216T081516Z
UID:3070-1772962200-1772974800@huiwaa.org
SUMMARY:Heʻeia Kea to Ahu o Laka (Kāneʻohe Sandbar)
DESCRIPTION:An EZ Glider round trip paddle from the He’eia Kea canoe hale to Ahu o Laka\, the sandbar in the middle of Kaneohe Bay. A great beginners paddle! There will be a negative low tide at 10:51 AM so we should be able to land on the sandbar. We’ll take a break there to have a snack\, swim\, snorkel or fish around the sandbar. Meet at 9:30 AM\, launch at 10:00 AM. No carpool\, but you may want to arrive early to get parking at the harbor or along Kam Highway. – 2.4 mi. \n\n\n\nPaddle Leader:\n\n\n\n\n\n\n\n\n\nLaunch Location:\n\n\n\nMeet at the canoe hale just to the left at the boat harbor entrance. \n\n\n\n\n\n\n\n\n\n	\n	Look Who's Coming!Sandy JohnsonWilliam MurphyTerry ShimabukuroThad SpregKimberly HowsleySusan WilcoxNikko Tiahrt-ConradDebi Lylestan dalbecMonte EliasStephen HarrisKathrin DelanoTomoe ContorelliRoger RudoffDenny ConradKelvin TomMark Ling\n	Attendance: 17 / 20\n	\n    \n\n	    \n    \n        Registrations are closed for this event
URL:https://huiwaa.org/event/heeia-kea-to-ahu-o-laka-kaneohe-sandbar-3/
LOCATION:He’eia Kea Canoe Hale\, C5VQ+692\, Kahaluu\, HI
CATEGORIES:#1 Easy Glider
ATTACH;FMTTYPE=image/jpeg:https://huiwaa.org/wp-content/uploads/2025/03/Umbrella-Tim-rotated.jpg
ORGANIZER;CN="Bill Murphy":MAILTO:bilym@hotmail.com
END:VEVENT
BEGIN:VEVENT
DTSTART;TZID=Pacific/Honolulu:20260201T083000
DTEND;TZID=Pacific/Honolulu:20260201T140000
DTSTAMP:20260422T123828
CREATED:20251031T014613Z
LAST-MODIFIED:20260116T203315Z
UID:3052-1769934600-1769954400@huiwaa.org
SUMMARY:Magic Island Meet & Greet
DESCRIPTION:At our first Meet & Greet event of the year we welcome prospective members to join us on an EZ Glider paddle followed by a potluck picnic where you can talk to our members and learn about the club and our activities. \n\n\n\nOn this paddle you can experience Waikiki like a tourist as we go from Magic Island to Waikiki and back. We’ll launch from the Magic Island canoe ramp\, go out the channel and then paddle inside the reef to get an up close look at hotels and sun worshipers. If you know how to re-enter your kayak in the water you can try surfing a small wave or take a quick snorkel at one of the reefs. We’ll turnaround near Kuhio Beach and head back to Magic Island. \n\n\n\nAfter the paddle stay for a potluck lunch. Non-paddling family and friends are welcome to join us at the potluck. Lunch will be between Picnic Sites #6 and #7 just Ewa of the canoe hale. Look for the club banner. Bring a potluck dish to share\, your drinks and camp chairs. Dogs are prohibited at the park so please do not bring your dog to the picnic (trained service dogs excepted). \n\n\n\nA limited number of loaner kayaks are available for this event. Please read our loaner kayak etiquette before requesting a loaner. Contact the paddle leader by Friday\, 1/30\, to request a loaner. \n\n\n\nPaddlers should meet at the ramp in front of the canoe hale at 8:30 for a 9:00 launch. – 3 to 4 mi. \n\n\n\nPaddle Leader:\n\n\n\n\n\nLaunch Location:\n\n\n\nPark in the Magic Island parking lot or along Ala Moana Park Dr. Launch from the ramp across the road from the canoe hale. \n\n\n\n\n\n\n\n\n\n	\n	Look Who's Coming!Sandy JohnsonWilliam MurphyTerry ShimabukuroThad SpregKimberly HowsleySusan WilcoxNikko Tiahrt-ConradDebi Lylestan dalbecMonte EliasStephen HarrisKathrin DelanoTomoe ContorelliRoger RudoffDenny ConradKelvin TomMark Ling\n	Attendance: 17 / 20\n	\n    \n\n	    \n    \n        Registrations are closed for this event
URL:https://huiwaa.org/event/magic-island-meet-greet/
LOCATION:Magic Island Canoe Ramp\, 75Q4+49\, Honolulu\, HI
CATEGORIES:#1 Easy Glider
ATTACH;FMTTYPE=image/jpeg:https://huiwaa.org/wp-content/uploads/2024/11/05-Picnic-Setup-scaled.jpg
ORGANIZER;CN="Terry Shimabukuro":MAILTO:terry@huiwaa.org
END:VEVENT
BEGIN:VEVENT
DTSTART;TZID=Pacific/Honolulu:20260118T100000
DTEND;TZID=Pacific/Honolulu:20260118T130000
DTSTAMP:20260422T123829
CREATED:20251030T234955Z
LAST-MODIFIED:20260120T233250Z
UID:3041-1768730400-1768741200@huiwaa.org
SUMMARY:Goat Island (Moku'auia)
DESCRIPTION:Park in the day-use area of Mālaekahana State Park (see map) and meet on the beach at 10:00 AM for a day of paddling\, fishing and surfing around the park & island. Bring lunch or snacks for the island part. Caution: it is always windy here\, but you’re never far from shore…No carpool. \n\n\n\nPaddle Leader:\n\n\n\n\n\nLaunch Location:\n\n\n\nEnter the Malaekahana State Recreation Area and park in the first parking lot (day use lot). Bring your wheels to pull your kayak across a long grass field. \n\n\n\n\n\n\n\n\n\n	\n	Look Who's Coming!Sandy JohnsonWilliam MurphyTerry ShimabukuroThad SpregKimberly HowsleySusan WilcoxNikko Tiahrt-ConradDebi Lylestan dalbecMonte EliasStephen HarrisKathrin DelanoTomoe ContorelliRoger RudoffDenny ConradKelvin TomMark Ling\n	Attendance: 17 / 20\n	\n    \n\n	    \n    \n        Registrations are closed for this event
URL:https://huiwaa.org/event/goat-island-mokuauia/
LOCATION:Malaekahana State Recreation Area\, M369+9RX\, Hauula\, HI
CATEGORIES:#1 Easy Glider
ATTACH;FMTTYPE=image/jpeg:https://huiwaa.org/wp-content/uploads/2025/01/Mokuauia-Beach.jpg
ORGANIZER;CN="Stan McCrea":MAILTO:wawaenui@gmail.com
END:VEVENT
BEGIN:VEVENT
DTSTART;TZID=Pacific/Honolulu:20260111T090000
DTEND;TZID=Pacific/Honolulu:20260111T130000
DTSTAMP:20260422T123829
CREATED:20251030T211615Z
LAST-MODIFIED:20251030T220805Z
UID:3027-1768122000-1768136400@huiwaa.org
SUMMARY:Lake Wilson
DESCRIPTION:An EZ Glider roundtrip paddle in Lake Wilson. Lake Wilson is a privately-owned reservoir in Wahiawa that is stocked\, maintained and regulated by the State\, specifically and exclusively for use by freshwater sport fisherman. A Hawaii Freshwater Game Fishing License and a Wahiawa Public Fishing Area Entry Permit are required for this paddle even if you do not fish. PFDs are also required. You can get a license and entry permit online\, at the Division of Aquatic Resources office on Punchbowl Street or at most fishing supply stores like Walmart\, Nanko’s and McCully Bicycle. The cost is $5 for Hawaii residents ($3 for minors under 15) and the license is good for a year. \n\n\n\nMeet at 9:00 am near the boat ramp at the Wahiawa Freshwater State Park. \n\n\n\nPaddle Leader:\n\n\n\n\n\nLaunch Location:\n\n\n\n\n\n\n\n\n\n	\n	Look Who's Coming!Sandy JohnsonWilliam MurphyTerry ShimabukuroThad SpregKimberly HowsleySusan WilcoxNikko Tiahrt-ConradDebi Lylestan dalbecMonte EliasStephen HarrisKathrin DelanoTomoe ContorelliRoger RudoffDenny ConradKelvin TomMark Ling\n	Attendance: 17 / 20\n	\n    \n\n	    \n    \n        Registrations are closed for this event
URL:https://huiwaa.org/event/lake-wilson/
LOCATION:Wahiawa Freshwater State Park\, FXRF+9CQ\, Wahiawa\, HI
CATEGORIES:#1 Easy Glider
ATTACH;FMTTYPE=image/jpeg:https://huiwaa.org/wp-content/uploads/2025/01/Lake-Wilson-Bridge.jpg
ORGANIZER;CN="Bill Murphy":MAILTO:bilym@hotmail.com
END:VEVENT
BEGIN:VEVENT
DTSTART;TZID=Pacific/Honolulu:20260103T180000
DTEND;TZID=Pacific/Honolulu:20260103T210000
DTSTAMP:20260422T123829
CREATED:20251030T220638Z
LAST-MODIFIED:20260102T222630Z
UID:3034-1767463200-1767474000@huiwaa.org
SUMMARY:Full Moon at Ahu o Laka (Kāneʻohe Sandbar)
DESCRIPTION:Weather Update: The winds should drop and with only a slight chance of rain we have a green light for our first 2026 paddle! It will be chilly so bring a jacket and maybe a hot beverage to warm you at the sandbar. \n\n\n\nJoin us for a howling good time as we paddle to the sandbar under the light of the full moon. While this round trip EZ Glider is suitable for the casual kayaker it is not for first-time paddlers since we’ll be paddling at night. Bring a waterproof light to illuminate your kayak (white glow sticks work well for this) and a snack to share on the sandbar. Moon rise 6:43 pm\, Sunset 6:02 pm\, Low tide 8:18 pm -0.7 ft. Meet in front of the He‘eia Kea canoe hale at 6:00 pm for a 6:30 pm launch. – 2.5 mi. \n\n\n\nPaddle Leader:\n\n\n\n\n\n\n\n\n\nLaunch Location:\n\n\n\nMeet at the canoe hale just to the left at the boat harbor entrance. \n\n\n\n\n\n\n\n\n\n	\n	Look Who's Coming!Sandy JohnsonWilliam MurphyTerry ShimabukuroThad SpregKimberly HowsleySusan WilcoxNikko Tiahrt-ConradDebi Lylestan dalbecMonte EliasStephen HarrisKathrin DelanoTomoe ContorelliRoger RudoffDenny ConradKelvin TomMark Ling\n	Attendance: 17 / 20\n	\n    \n\n	    \n    \n        Registrations are closed for this event
URL:https://huiwaa.org/event/fullmoon-at-ahu-o-laka-kaneohe-sandbar/
LOCATION:He’eia Kea Canoe Hale\, C5VQ+692\, Kahaluu\, HI
CATEGORIES:#1 Easy Glider
ATTACH;FMTTYPE=image/jpeg:https://huiwaa.org/wp-content/uploads/2025/01/Group-big-moon.jpg
ORGANIZER;CN="Terry Shimabukuro":MAILTO:terry@huiwaa.org
END:VEVENT
BEGIN:VEVENT
DTSTART;TZID=Pacific/Honolulu:20251207T090000
DTEND;TZID=Pacific/Honolulu:20251207T130000
DTSTAMP:20260422T123829
CREATED:20251130T050109Z
LAST-MODIFIED:20251130T050113Z
UID:3365-1765098000-1765112400@huiwaa.org
SUMMARY:Keʻehi Islets Tour
DESCRIPTION:Cruise around what was left of historic Mokauea fishing village after they dug the seaplane runway thru it. Lots of mangroves\, a few old bunkers\, interesting seldom-visited areas of Ke‘ehi Lagoon. \n\n\n\nMeet at the Sand Island Boat Launch Facility at 9:00 for a 9:30 launch. – 3 to 4 mi. RT \n\n\n\nPaddle Leader:\n\n\n\n\n\n\n\nLaunch Location:\n\n\n\nAlso called the Sand Island Boat Launch Facility near the Marine Education Training Center. Don’t park in the spaces for boat trailers. Launch or land on the beach not the boat ramp. \n\n\n\n\n\n\n\n\n\n	\n	Look Who's Coming!Sandy JohnsonWilliam MurphyTerry ShimabukuroThad SpregKimberly HowsleySusan WilcoxNikko Tiahrt-ConradDebi Lylestan dalbecMonte EliasStephen HarrisKathrin DelanoTomoe ContorelliRoger RudoffDenny ConradKelvin TomMark Ling\n	Attendance: 17 / 20\n	\n    \n\n	    \n    \n        Registrations are closed for this event
URL:https://huiwaa.org/event/ke%ca%bbehi-islets-tour/
LOCATION:Ke‘ehi Lagoon\, 8466+P6J\, Honolulu\, HI
CATEGORIES:#1 Easy Glider
ATTACH;FMTTYPE=image/jpeg:https://huiwaa.org/wp-content/uploads/2024/08/Keehi-Islets-e1724728377783.jpg
END:VEVENT
END:VCALENDAR