BEGIN:VCALENDAR
VERSION:2.0
PRODID:-//Hui Waʻa Kaukahi - ECPv6.15.20//NONSGML v1.0//EN
CALSCALE:GREGORIAN
METHOD:PUBLISH
X-WR-CALNAME:Hui Waʻa Kaukahi
X-ORIGINAL-URL:https://huiwaa.org
X-WR-CALDESC:Events for Hui Waʻa Kaukahi
REFRESH-INTERVAL;VALUE=DURATION:PT1H
X-Robots-Tag:noindex
X-PUBLISHED-TTL:PT1H
BEGIN:VTIMEZONE
TZID:Pacific/Honolulu
BEGIN:STANDARD
TZOFFSETFROM:-1000
TZOFFSETTO:-1000
TZNAME:HST
DTSTART:20250101T000000
END:STANDARD
END:VTIMEZONE
BEGIN:VEVENT
DTSTART;TZID=Pacific/Honolulu:20260607T083000
DTEND;TZID=Pacific/Honolulu:20260607T130000
DTSTAMP:20260422T141624
CREATED:20240531T023243Z
LAST-MODIFIED:20260415T064008Z
UID:1016-1780821000-1780837200@huiwaa.org
SUMMARY:Haleʻiwa to Runway Beach
DESCRIPTION:This fun paddle takes you past Haleʻiwa\, Waialua and Mokuleia normally with a good tailwind to push you down the coast. This is a good run for sailing or kite flying. Surfers can zig-zag their way through the breakers along the way. If we’re lucky we’ll see the spinner dolphin pod that frequents Haleʻiwa. Meet by the Haleʻiwa war memorial at 8:30 AM. Carpool at 9:00 AM. – 8 mi. \n\n\n\nPaddle Leader:\n\n\n\n\n\nLaunch Location:\n\n\n\nPark near to the war memorial if possible. If not\, park in the lot at the beach park. \n\n\n\n\n\nLanding Location:\n\n\n\nRunway Beach. Just past the Dillingham Airfield\, before Camp Erdman. Park on the side of Farrington Hwy. \n\n\n\n\n\n\n\n	\n	Look Who's Coming!William MurphyRoya JueTerry ShimabukuroBeth Cheng-LeeverAmy FujimotoHilary EllisSandy JohnsonNadine Owenstan dalbeckelvin tom\n	Attendance: 10 / 20\n	\n    \n\n	    \n    \n        Registrations are closed for this event
URL:https://huiwaa.org/event/hale%ca%bbiwa-to-runway-beach/
LOCATION:Haleʻiwa Beach Park\, HVXW+5M9\, Haleiwa\, HI
CATEGORIES:#2 Intermediate,Paddle
ATTACH;FMTTYPE=image/jpeg:https://huiwaa.org/wp-content/uploads/2024/07/Haleiwa-01.jpg
ORGANIZER;CN="Stan Dalbec":MAILTO:sdalbec@hawaii.rr.com
END:VEVENT
BEGIN:VEVENT
DTSTART;TZID=Pacific/Honolulu:20260614T083000
DTEND;TZID=Pacific/Honolulu:20260614T130000
DTSTAMP:20260422T141624
CREATED:20251102T025651Z
LAST-MODIFIED:20251118T062952Z
UID:3109-1781425800-1781442000@huiwaa.org
SUMMARY:Hauʻula to Mālaekahana
DESCRIPTION:This medium length paddle can be challenging because of potential large trade swells. If conditions allow you can get up close to several islets between Lai‘e Point and Mālaekahana. Meet at 8:30 am for a 9:00 am carpool. – 6 mi. \n\n\n\nPaddle Leader:\n\n\n\n\n\nLaunch Location:\n\n\n\nPark along Kam Hwy. Launch or land right behind the restroom and pavilion. \n\n\n\n\n\nLanding Location:\n\n\n\nMalaekahana State Recreation Area. Enter the Malaekahana State Recreation Area and park in the first parking lot (day use lot). Bring your wheels to pull your kayak across a long grass field. \n\n\n\n\n\n\n\n	\n	Look Who's Coming!William MurphyRoya JueTerry ShimabukuroBeth Cheng-LeeverAmy FujimotoHilary EllisSandy JohnsonNadine Owenstan dalbeckelvin tom\n	Attendance: 10 / 20\n	\n    \n\n	    \n    \n        Registrations are closed for this event
URL:https://huiwaa.org/event/hauula-to-malaekahana/
LOCATION:Hauʻula Beach Park\, Hau'ula Beach Park\, Hauula\, HI
CATEGORIES:#2 Intermediate
ATTACH;FMTTYPE=image/jpeg:https://huiwaa.org/wp-content/uploads/2025/11/Laie.jpg
ORGANIZER;CN="Bill Murphy":MAILTO:bilym@hotmail.com
END:VEVENT
BEGIN:VEVENT
DTSTART;TZID=Pacific/Honolulu:20260620T150000
DTEND;TZID=Pacific/Honolulu:20260620T203000
DTSTAMP:20260422T141624
CREATED:20240530T212339Z
LAST-MODIFIED:20260415T063916Z
UID:992-1781967600-1781987400@huiwaa.org
SUMMARY:Summer Solstice Celebration Meet & Greet
DESCRIPTION:We’ll celebrate the summer solstice with a roundtrip EZ Glider paddle from Haleʻiwa Beach Park. Our route will be determined by the conditions that day. After the paddle we’ll enjoy a potluck BBQ picnic dinner as we await an awesome sunset to end the longest day of the year. \n\n\n\nBring a dish to share\, your own beverages and a beach chair for the potluck dinner. We’ll have a grill going if you’d like to cook something on the barbie. Musicians are welcome to bring their instrument of choice for an impromptu sunset kanikapila. \n\n\n\nAt this third Meet & Greet of the year we encourage all members to come out whether you want to paddle or just enjoy the potluck and incredible sunset. Members should invite guests that might have an interest in joining our club. \n\n\n\nA limited number of loaner kayaks are available for this event. Request a loaner kayak by contacting the paddle leader. \n\n\n\nMeet at 3:00 pm for the late afternoon paddle. \n\n\n\nDogs are not allowed at the beach park so please leave your furry friends at home. \n\n\n\nPaddle Leader:\n\n\n\n\n\nLaunch Location:\n\n\n\nPark near to the war memorial if possible. If not\, park in the lot at the beach park. \n\n\n\n\n\n\n\n\n\n	\n	Look Who's Coming!William MurphyRoya JueTerry ShimabukuroBeth Cheng-LeeverAmy FujimotoHilary EllisSandy JohnsonNadine Owenstan dalbeckelvin tom\n	Attendance: 10 / 20\n	\n    \n\n	    \n    \n        Registrations are closed for this event
URL:https://huiwaa.org/event/summer-solstice-celebration/
LOCATION:Haleʻiwa Beach Park\, HVXW+5M9\, Haleiwa\, HI
CATEGORIES:#1 Easy Glider,Paddle
ATTACH;FMTTYPE=image/jpeg:https://huiwaa.org/wp-content/uploads/2024/05/Waialua-sunset.jpg
ORGANIZER;CN="Terry Shimabukuro":MAILTO:terry@huiwaa.org
END:VEVENT
BEGIN:VEVENT
DTSTART;TZID=Pacific/Honolulu:20260628T083000
DTEND;TZID=Pacific/Honolulu:20260628T140000
DTSTAMP:20260422T141624
CREATED:20240531T012657Z
LAST-MODIFIED:20260415T064433Z
UID:1011-1782635400-1782655200@huiwaa.org
SUMMARY:The Big Kahuna
DESCRIPTION:A long paddle for experienced kayakers from Kaimalino to He’eia Kea with a stop at the Moku Manu cave (The latter is dependent on no live-fire exercises at Mokapu Range). Meet at the Kaimalino St. beach access at 8:30 AM for a 9:00 AM carpool. – 11 mi. \n\n\n\nPaddle Leaders:\n\n\n\n\n\n\n\nLaunch Location:\n\n\n\nThe access path is between 614 and 620 Kaimalino St. \n\n\n\n\n\nLanding Location:\n\n\n\nHe’eia Kea Canoe Hale. Meet at the canoe hale just to the left at the boat harbor entrance. \n\n\n\n\n\n\n\n	\n	Look Who's Coming!William MurphyRoya JueTerry ShimabukuroBeth Cheng-LeeverAmy FujimotoHilary EllisSandy JohnsonNadine Owenstan dalbeckelvin tom\n	Attendance: 10 / 20\n	\n    \n\n	    \n    \n        Registrations are closed for this event
URL:https://huiwaa.org/event/the-big-kahuna/
LOCATION:Kaimalino St. Beach Access\, C7G6+836\, Kailua\, HI
CATEGORIES:#3 Advanced,Paddle
ATTACH;FMTTYPE=image/jpeg:https://huiwaa.org/wp-content/uploads/2024/05/Kahuna-birds.jpg
ORGANIZER;CN="Steve Harris":MAILTO:808stevee@gmail.com
END:VEVENT
END:VCALENDAR