BEGIN:VCALENDAR
VERSION:2.0
PRODID:-//Hui Waʻa Kaukahi - ECPv6.15.20//NONSGML v1.0//EN
CALSCALE:GREGORIAN
METHOD:PUBLISH
X-ORIGINAL-URL:https://huiwaa.org
X-WR-CALDESC:Events for Hui Waʻa Kaukahi
REFRESH-INTERVAL;VALUE=DURATION:PT1H
X-Robots-Tag:noindex
X-PUBLISHED-TTL:PT1H
BEGIN:VTIMEZONE
TZID:Pacific/Honolulu
BEGIN:STANDARD
TZOFFSETFROM:-1000
TZOFFSETTO:-1000
TZNAME:HST
DTSTART:20250101T000000
END:STANDARD
END:VTIMEZONE
BEGIN:VEVENT
DTSTART;TZID=Pacific/Honolulu:20260426T080000
DTEND;TZID=Pacific/Honolulu:20260426T170000
DTSTAMP:20260422T105112
CREATED:20251102T003210Z
LAST-MODIFIED:20260418T231505Z
UID:3097-1777190400-1777222800@huiwaa.org
SUMMARY:Mokuleʻia to Kaʻena and Back
DESCRIPTION:Vice-President Stan Dalbec has long envisioned completing a round trip paddle from Mokulēʻia to Kaʻena Point. We did it in 2025\, but itʻs rare for the wind and surf conditions to line up to make this feasible. Join us on this paddle to Ka’ena Point without the arduous carpool. This round trip cruise takes you along the northwest coast of Oʻahu as Laysan albatross glide overhead. We will come up with an alternate paddle if the conditions don’t cooperate. Meet at Runway Beach at 8:30 AM. No carpool. – 9 mi. \n\n\n\nPaddle Leader:\n\n\n\n\n\n\n\n\n\nLaunch Location:\n\n\n\nJust past the Dillingham Airfield\, before Camp Erdman. Park on the side of Farrington Hwy. \n\n\n\n\n\n\n\n\n\n	\n	Look Who's Coming!William MurphyRoya JueTerry ShimabukuroBeth Cheng-LeeverAmy FujimotoHilary EllisSandy JohnsonNadine Owenstan dalbeckelvin tom\n	Attendance: 10 / 20\n	\n    \n\n	    \n    \n        Registrations are closed for this event
URL:https://huiwaa.org/event/mokuleia-to-kaena-and-back/
LOCATION:Runway Beach\, HQHP+Q3M\, Mokuleia\, HI
CATEGORIES:#2 Intermediate
ATTACH;FMTTYPE=image/jpeg:https://huiwaa.org/wp-content/uploads/2025/04/Group-at-Point-Sandy.jpg
ORGANIZER;CN="Bill Murphy":MAILTO:bilym@hotmail.com
END:VEVENT
END:VCALENDAR