BEGIN:VCALENDAR
VERSION:2.0
PRODID:-//Hui Waʻa Kaukahi - ECPv6.15.20//NONSGML v1.0//EN
CALSCALE:GREGORIAN
METHOD:PUBLISH
X-ORIGINAL-URL:https://huiwaa.org
X-WR-CALDESC:Events for Hui Waʻa Kaukahi
REFRESH-INTERVAL;VALUE=DURATION:PT1H
X-Robots-Tag:noindex
X-PUBLISHED-TTL:PT1H
BEGIN:VTIMEZONE
TZID:Pacific/Honolulu
BEGIN:STANDARD
TZOFFSETFROM:-1000
TZOFFSETTO:-1000
TZNAME:HST
DTSTART:20250101T000000
END:STANDARD
END:VTIMEZONE
BEGIN:VEVENT
DTSTART;TZID=Pacific/Honolulu:20260116T120000
DTEND;TZID=Pacific/Honolulu:20260118T170000
DTSTAMP:20260422T174437
CREATED:20251117T234340Z
LAST-MODIFIED:20260111T234553Z
UID:3194-1768564800-1768755600@huiwaa.org
SUMMARY:Mālaekahana Camping
DESCRIPTION:Decompress after the busy holidays with a weekend of camping with the club at the Malaekahana State Recreation Area. There’s no agenda for the weekend except for Sunday’s Goat Island paddle. Do whatever you like kayak\, swim\, snorkel\, boogie-board\, surf\, fish\, beachcomb\, hike\, sunrise watch or just lie in a hammock.  \n\n\n\nEvent Coordinator:\n\n\n\n\n\nCampsite Location:\n\n\n\nDrive all the way in to the last parking area. The club has permits in Camp Area B for campsites B6\, B7 and B9. \n\n\n\n\n\n\n\n\n\n	\n	Look Who's Coming!Carolyn CorleyEileen HelmstetterMia ERuby ShimabukuroNorm ChunJled DumuranJeanine OdaNadine OwenSandy FujimotoKathrin DelanoTim SawyerDenny ConradStephen DelanoMarie StuartRandy KennedyVICTORIA ANDERSONMaritza McCreaChuck and Jeanie EhrhornRichard TierneyMarva ChunRob MurphyTerry ShimabukuroSusan WilcoxMary Ann ChunSandy JohnsonStephen HarrisAmy FujimotoStan DalbecPeter NicholsonNikko Tiahrt-ConradDebi LyleClaris OlsonKatrena KennedyPAUL TIBBETTSStanley McCreaCHALSA LOORoger RudoffKimberly Howsley\n	Attendance: 38 / 60\n	\n    \n\n	    \n    \n        Registrations are closed for this event
URL:https://huiwaa.org/event/malaekahana-camping/
LOCATION:Malaekahana State Recreation Area Camp Area B\, M35C+878\, Hauula\, HI
CATEGORIES:Special Event
ATTACH;FMTTYPE=image/jpeg:https://huiwaa.org/wp-content/uploads/2025/11/Malaekahana-Campsite.jpg
ORGANIZER;CN="Rob Murphy":MAILTO:paddlemonkey@me.com
END:VEVENT
END:VCALENDAR