BEGIN:VCALENDAR
VERSION:2.0
PRODID:-//Hui Waʻa Kaukahi - ECPv6.15.20//NONSGML v1.0//EN
CALSCALE:GREGORIAN
METHOD:PUBLISH
X-WR-CALNAME:Hui Waʻa Kaukahi
X-ORIGINAL-URL:https://huiwaa.org
X-WR-CALDESC:Events for Hui Waʻa Kaukahi
REFRESH-INTERVAL;VALUE=DURATION:PT1H
X-Robots-Tag:noindex
X-PUBLISHED-TTL:PT1H
BEGIN:VTIMEZONE
TZID:Pacific/Honolulu
BEGIN:STANDARD
TZOFFSETFROM:-1000
TZOFFSETTO:-1000
TZNAME:HST
DTSTART:20250101T000000
END:STANDARD
END:VTIMEZONE
BEGIN:VEVENT
DTSTART;TZID=Pacific/Honolulu:20260327T080000
DTEND;TZID=Pacific/Honolulu:20260329T200000
DTSTAMP:20260422T142602
CREATED:20240329T013852Z
LAST-MODIFIED:20260326T011646Z
UID:546-1774598400-1774814400@huiwaa.org
SUMMARY:Easter Camp
DESCRIPTION:We’ll celebrate Easter a week early this year with a weekend camp filled with activities. We reserved the small group campsite at Kualoa Regional Park so we’ll have lots of room for club members and their guests to pitch a tent. You can camp from Friday and leave on Sunday after the potluck. \n\n\n\nCamping is for club members and their guests only. Non-members are welcome at the other weekend activities. \n\n\n\nRSVP on this page to reserve a space in the campsite. For all other Easter event RSVP on the separate event pages that will be held over the weekend. \n\n\n\nSat. 3-28\, 9:00am – Kualoa to Kahana Bay  Sun. 3-29\, 8:30am – Easter Meet & Greet \n\n\n\nEvent Coordinator:\n\n\n\n\n\nCamp Location:\n\n\n\nDrive down the park road and take the right fork at the roundabout before the last parking lot. Drive around the partially closed gate to Campground “A”. Go to the end of the gravel road. We’ll be in the small group campsite past the outrigger canoes in the southwest corner of the park. The gate to the park opens at 7 am. \n\n\n\n\n\n			\n				\n			\n		Gravel road to Campground A\n\n\n\n\n			\n				\n			\n		Campground A\n\n\n\n\n\n\n\n\n\n\nRSVP here to reserve a camping spot \n\n\n\n	\n	Look Who's Coming!Carolyn CorleyEileen HelmstetterMia ERuby ShimabukuroNorm ChunJled DumuranJeanine OdaNadine OwenSandy FujimotoKathrin DelanoTim SawyerDenny ConradStephen DelanoMarie StuartRandy KennedyVICTORIA ANDERSONMaritza McCreaChuck and Jeanie EhrhornRichard TierneyMarva ChunRob MurphyTerry ShimabukuroSusan WilcoxMary Ann ChunSandy JohnsonStephen HarrisAmy FujimotoStan DalbecPeter NicholsonNikko Tiahrt-ConradDebi LyleClaris OlsonKatrena KennedyPAUL TIBBETTSStanley McCreaCHALSA LOORoger RudoffKimberly Howsley\n	Attendance: 38 / 60\n	\n    \n\n	    \n    \n        Registrations are closed for this event
URL:https://huiwaa.org/event/cinco-de-coptic-easter-camp/
LOCATION:Kualoa Regional Park Campsite A\, G555+HR\, Waikane\, HI
CATEGORIES:Special Event
ATTACH;FMTTYPE=image/jpeg:https://huiwaa.org/wp-content/uploads/2025/05/Campground.jpg
END:VEVENT
END:VCALENDAR