BEGIN:VCALENDAR
VERSION:2.0
PRODID:-//Hui Waʻa Kaukahi - ECPv6.15.20//NONSGML v1.0//EN
CALSCALE:GREGORIAN
METHOD:PUBLISH
X-WR-CALNAME:Hui Waʻa Kaukahi
X-ORIGINAL-URL:https://huiwaa.org
X-WR-CALDESC:Events for Hui Waʻa Kaukahi
REFRESH-INTERVAL;VALUE=DURATION:PT1H
X-Robots-Tag:noindex
X-PUBLISHED-TTL:PT1H
BEGIN:VTIMEZONE
TZID:Pacific/Honolulu
BEGIN:STANDARD
TZOFFSETFROM:-1000
TZOFFSETTO:-1000
TZNAME:HST
DTSTART:20250101T000000
END:STANDARD
END:VTIMEZONE
BEGIN:VEVENT
DTSTART;TZID=Pacific/Honolulu:20261215T170000
DTEND;TZID=Pacific/Honolulu:20261215T203000
DTSTAMP:20260422T230710
CREATED:20240827T051352Z
LAST-MODIFIED:20251201T013602Z
UID:1557-1797354000-1797366600@huiwaa.org
SUMMARY:Christmas Party
DESCRIPTION:This event is for club members and their guests only. \n\n\n\nWe’ll celebrate the holidays at the Hawaii Trail & Mountain Club clubhouse with our usual festivities: Potluck dinner\, Gift Exchange Melee\, Photo\, Video and Video Clip Contest and caroling. The party will be held mainly in the pavilion in the yard\, but there will be access to the main room upstairs in case of rain or snow. \n\n\n\nPupus and mingling starts at 5 pm. Potluck at 6 pm. \n\n\n\nWe’re going back to our traditional Gift Exchange Melee. Bring a gift up to a $20 value for a spirited grab bag exchange. \n\n\n\nIf you want to enter the photo\, video or video clip contest here are the rules. Photos and videos must have been taken after and including last year’s Christmas party. You do not have to be present to win\, but a printed photo must be submitted. \n\n\n\nEveryone should bring a dish to share and your own drinks. Vegan dishes are welcome. Please put your name on your dishes and utensils. If you have potluck questions contact Eileen. \n\n\n\nEvent Coordinators:\n\n\n\n\n\n\n\n\n\nLocation:\n\n\n\nPark on the lawn in front of the house or along Puuone St. \n\n\n\n\n\n\n\n\n\n	\n	Look Who's Coming!Carolyn CorleyEileen HelmstetterMia ERuby ShimabukuroNorm ChunJled DumuranJeanine OdaNadine OwenSandy FujimotoKathrin DelanoTim SawyerDenny ConradStephen DelanoMarie StuartRandy KennedyVICTORIA ANDERSONMaritza McCreaChuck and Jeanie EhrhornRichard TierneyMarva ChunRob MurphyTerry ShimabukuroSusan WilcoxMary Ann ChunSandy JohnsonStephen HarrisAmy FujimotoStan DalbecPeter NicholsonNikko Tiahrt-ConradDebi LyleClaris OlsonKatrena KennedyPAUL TIBBETTSStanley McCreaCHALSA LOORoger RudoffKimberly Howsley\n	Attendance: 38 / 60\n	\n    \n\n	    \n    \n        Registrations are closed for this event
URL:https://huiwaa.org/event/christmas-party/
LOCATION:Hawaii Trail & Mountain Club\, 41-023 Puuone St\, Waimanalo\, HI
CATEGORIES:Special Event
ATTACH;FMTTYPE=image/jpeg:https://huiwaa.org/wp-content/uploads/2025/11/Santa-Kayak.jpg
ORGANIZER;CN="Eileen Helmstetter":MAILTO:skyleen33@gmail.com
END:VEVENT
END:VCALENDAR